BEGIN:VCALENDAR
VERSION:2.0
PRODID:-//Tukios.com/
BEGIN:VEVENT
UID:542b649c-59e9-4440-88b3-335b1e263c71@www.penwellgabelkc.com
DTSTAMP:20260420T185836Z
DTSTART:20260426T183000Z
DTEND:20260426T190000Z
SUMMARY:Visitation
DESCRIPTION:
URL:https://www.penwellgabelkc.com/obituaries/martha-greenwood
LOCATION:First United Methodist Church of Eureka 521 North Main Street  
	Eureka KS 67045
GEO:37.8239472;-96.2945065
END:VEVENT
END:VCALENDAR