BEGIN:VCALENDAR
VERSION:2.0
PRODID:-//Tukios.com/
BEGIN:VEVENT
UID:6aa79a86-06c1-4e3a-883b-8e98ea0a76b7@www.penwellgabelkc.com
DTSTAMP:20260420T185358Z
DTSTART:20260426T190000Z
DTEND:20260426T200000Z
SUMMARY:Memorial Service
DESCRIPTION:
URL:https://www.penwellgabelkc.com/obituaries/martha-greenwood
LOCATION:First United Methodist Church of Eureka 521 North Main Street  
	Eureka KS 67045
GEO:37.8239472;-96.2945065
END:VEVENT
END:VCALENDAR