BEGIN:VCALENDAR
VERSION:2.0
PRODID:-//Tukios.com/
BEGIN:VEVENT
UID:08da74ce-a238-4fa8-9eb6-40ae6695ca14@www.penwellgabelkc.com
DTSTAMP:20260425T225734Z
DTSTART:20260502T160000Z
DTEND:20260502T170000Z
SUMMARY:Funeral Service
DESCRIPTION:
URL:https://www.penwellgabelkc.com/obituaries/hubert-davis
LOCATION: 14275 S Black Bob Rd  Olathe KS 66062
GEO:38.8697175;-94.760024
END:VEVENT
END:VCALENDAR