BEGIN:VCALENDAR
VERSION:2.0
PRODID:-//Tukios.com/
BEGIN:VEVENT
UID:1f70a9f8-3b05-4571-bf2b-5dc41d6f9d31@www.penwellgabelkc.com
DTSTAMP:20260425T230734Z
DTSTART:20260502T150000Z
DTEND:20260502T160000Z
SUMMARY:Visitation
DESCRIPTION:
URL:https://www.penwellgabelkc.com/obituaries/hubert-davis
LOCATION: 14275 S Black Bob Rd  Olathe KS 66062
GEO:38.8697175;-94.760024
END:VEVENT
END:VCALENDAR