BEGIN:VCALENDAR
VERSION:2.0
PRODID:-//Tukios.com/
BEGIN:VEVENT
UID:094412f4-6357-429d-bd3a-ff12e460917b@www.penwellgabelkc.com
DTSTAMP:20260424T000025Z
DTSTART:20260606T223000Z
DTEND:20260607T020000Z
SUMMARY:Celebration of Life
DESCRIPTION:
URL:https://www.penwellgabelkc.com/obituaries/gary-michelson
LOCATION:Ironhorse Golf Club 15400 Mission Rd  Leawood KS 66224
GEO:38.8499536;-94.6341712
END:VEVENT
END:VCALENDAR