BEGIN:VCALENDAR
VERSION:2.0
PRODID:-//Tukios.com/
BEGIN:VEVENT
UID:9caeaf5b-c31f-41bc-aeec-37bbc14ced7b@www.penwellgabelkc.com
DTSTAMP:20260424T000428Z
DTSTART:20260606T213000Z
DTEND:20260606T223000Z
SUMMARY:Service of Prayer and Thanksgiving
DESCRIPTION:
URL:https://www.penwellgabelkc.com/obituaries/gary-michelson
LOCATION: 15400 Mission Rd.  Leawood KS 66224
GEO:38.8499536;-94.6341712
END:VEVENT
END:VCALENDAR