BEGIN:VCALENDAR
VERSION:2.0
PRODID:-//Tukios.com/
BEGIN:VEVENT
UID:606e6f85-7235-49d0-8aec-e9094073b141@www.penwellgabelkc.com
DTSTAMP:20260420T233348Z
DTSTART:20260529T174500Z
DTEND:20260529T183000Z
SUMMARY:Graveside Service
DESCRIPTION:
URL:https://www.penwellgabelkc.com/obituaries/dennis-strait
LOCATION:Pleasant Hill Cemetery 444 E. 18th Street  Concordia KS 66901
GEO:39.559179;-97.6520123
END:VEVENT
END:VCALENDAR