BEGIN:VCALENDAR
VERSION:2.0
PRODID:-//Tukios.com/
BEGIN:VEVENT
UID:698c4f44-770d-48c7-b108-d22227dc53d5@www.penwellgabelkc.com
DTSTAMP:20260420T232948Z
DTSTART:20260529T160000Z
DTEND:20260529T174500Z
SUMMARY:Reception Following Service
DESCRIPTION:
URL:https://www.penwellgabelkc.com/obituaries/dennis-strait
LOCATION: 506 Washington St.  Concordia KS 66901
GEO:39.5723656;-97.6614712
END:VEVENT
END:VCALENDAR