BEGIN:VCALENDAR
VERSION:2.0
PRODID:-//Tukios.com/
BEGIN:VEVENT
UID:762331db-aabb-4a1b-b19a-ef9a710c0218@www.penwellgabelkc.com
DTSTAMP:20260420T233014Z
DTSTART:20260529T150000Z
DTEND:20260529T160000Z
SUMMARY:Memorial Service
DESCRIPTION:
URL:https://www.penwellgabelkc.com/obituaries/dennis-strait
LOCATION: 506 Washington St.  Concordia KS 66901
GEO:39.5723656;-97.6614712
END:VEVENT
END:VCALENDAR